BEGIN:VCALENDAR
VERSION:2.0
PRODID:-//ZContent.net//ZapCalLib 1.0//EN
CALSCALE:GREGORIAN
METHOD:PUBLISH
BEGIN:VEVENT
SUMMARY:Diskussion zur EU-Wirtschafts- und Finanzpolitik | veranstaltet von
  `Schwarzkopf-Stiftung `Junges Europa``
DTSTART:20110510T180000
DTEND:20110510T210000
UID:2026-04-24-10-53-49-0-@calendar.boell.de
DTSTAMP:20260424T085349
DESCRIPTION:Externe Veranstaltung
END:VEVENT
END:VCALENDAR
