BEGIN:VCALENDAR
VERSION:2.0
PRODID:-//ZContent.net//ZapCalLib 1.0//EN
CALSCALE:GREGORIAN
METHOD:PUBLISH
BEGIN:VEVENT
SUMMARY:Hauptstadtkongress Medizin und Gesundheit 2011 | veranstaltet von `
 WISO S.E. Consulting GmbH`
DTSTART:20110511T093000
DTEND:20110513T180000
UID:2026-04-23-10-08-23-0-@calendar.boell.de
DTSTAMP:20260423T080823
DESCRIPTION:Externe Veranstaltung
END:VEVENT
END:VCALENDAR
