BEGIN:VCALENDAR
VERSION:2.0
PRODID:-//ZContent.net//ZapCalLib 1.0//EN
CALSCALE:GREGORIAN
METHOD:PUBLISH
BEGIN:VEVENT
SUMMARY:Diskussion `Gesundheit für alle - Gesund in Berlin`  | veranstalte
 t von `Bündnis 90/Die Grünen Bundestagsfraktio`
DTSTART:20110511T180000
DTEND:20110511T200000
UID:2026-04-24-09-05-47-0-@calendar.boell.de
DTSTAMP:20260424T070547
DESCRIPTION:
END:VEVENT
END:VCALENDAR
